BEGIN:VCALENDAR
VERSION:2.0
PRODID:-//ChamberMaster//Event Calendar 2.0//EN
METHOD:PUBLISH
X-PUBLISHED-TTL:P3D
REFRESH-INTERVAL:P3D
CALSCALE:GREGORIAN
BEGIN:VEVENT
DTSTART;VALUE=DATE:20250708
DTEND;VALUE=DATE:20250721
TRANSP:TRANSPARENT
X-MICROSOFT-CDO-ALLDAYEVENT:TRUE
SUMMARY:The Wizard of Oz
DESCRIPTION:Travel down the Yellow Brick Road with Dorothy and her loyal dog Toto as they embark on a magical adventure to meet the Wonderful Wizard of Oz. Joined by new friends\, the Scarecrow\, Tin Man\, and Cowardly Lion\, this lavish production of THE WIZARD OF OZ promises to enchant audiences with dazzling choreography and spectacular special effects. This musical adaptation of THE WIZARD OF OZ is a captivating experience for the entire family.
X-ALT-DESC;FMTTYPE=text/html:Travel down the Yellow Brick Road with Dorothy and her loyal dog Toto as they embark on a magical adventure to meet the Wonderful Wizard of Oz. Joined by new friends\, the Scarecrow\, Tin Man\, and Cowardly Lion\, this lavish production of THE WIZARD OF OZ promises to enchant audiences with dazzling choreography and spectacular special effects. This musical adaptation of THE WIZARD OF OZ is a captivating experience for the entire family.
LOCATION:North Shore Music Theatre
UID:e.340.9247
SEQUENCE:3
DTSTAMP:20260421T083037Z
URL:https://business.peabodychamber.com/events/details/the-wizard-of-oz-9247
END:VEVENT

END:VCALENDAR
