BEGIN:VCALENDAR
VERSION:2.0
PRODID:-//ChamberMaster//Event Calendar 2.0//EN
METHOD:PUBLISH
X-PUBLISHED-TTL:P3D
REFRESH-INTERVAL:P3D
CALSCALE:GREGORIAN
BEGIN:VEVENT
DTSTART:20260530T130000Z
DTEND:20260531T200000Z
X-MICROSOFT-CDO-ALLDAYEVENT:FALSE
SUMMARY:Saugus Free Days at the North Shore Children's Museum
DESCRIPTION:Saugus residents can enjoy free admission to the North Shore Children's Museum on Saturday\, May 30 and Sunday\, May 31!  \n\n\n\nWith the generous support of Saugus Cultural Council\, we are excited to offer free admission days for Saugus Residents. Tickets may be reserved online in advance or in person. Get your tickets now at nschildrensmuseum.org/visit/buy-tickets/ \n\n\n\nGuests must be prepared to show proof of Saugus residency at the door.  \n\n\n\n**Tickets are available on a first-come\, first-serve basis while supplies last \n\n\n\nSessions Available: \nSaturday\, May 30: 9am-12pm\, 12pm-2pm\, & 2pm-4pm  \n\nSunday\, May 31: 12pm-2pm & 2pm-4pm
X-ALT-DESC;FMTTYPE=text/html:Saugus residents can enjoy <strong>free admission</strong> to the North Shore Children&rsquo\;s Museum on <strong>Saturday\, May 30 and Sunday\, May 31!&nbsp\;</strong>&nbsp\;<br />\n<br />\nWith the generous support of Saugus Cultural Council\, we are excited to offer free admission days for Saugus Residents. Tickets may be reserved online in advance or in person. Get your tickets now at nschildrensmuseum.org/visit/buy-tickets/&nbsp\;<br />\n<br />\nGuests must be prepared to show proof of Saugus residency at the door.&nbsp\;&nbsp\;<br />\n<br />\n<em><strong>**Tickets are available on a first-come\, first-serve basis while supplies last&nbsp\;</strong></em><br />\n<br />\nSessions Available:&nbsp\;\n<div style="margin-left: 40px\;">Saturday\, May 30: 9am-12pm\, 12pm-2pm\, &amp\; 2pm-4pm&nbsp\;&nbsp\;</div>\n\n<div style="margin-left: 40px\;">Sunday\, May 31: 12pm-2pm &amp\; 2pm-4pm&nbsp\;</div>\n
LOCATION:North Shore Children's Museum 10 Main Street\, Peabody\, MA\, 01960
UID:e.340.9672
SEQUENCE:3
DTSTAMP:20260419T192609Z
URL:https://business.peabodychamber.com/events/details/saugus-free-days-at-the-north-shore-children-s-museum-9672
END:VEVENT

END:VCALENDAR
