BEGIN:VCALENDAR
VERSION:2.0
PRODID:-//ChamberMaster//Event Calendar 2.0//EN
METHOD:PUBLISH
X-PUBLISHED-TTL:P3D
REFRESH-INTERVAL:P3D
CALSCALE:GREGORIAN
BEGIN:VEVENT
DTSTART:20181117T180000Z
DTEND:20181224T190000Z
X-MICROSOFT-CDO-ALLDAYEVENT:FALSE
SUMMARY:Santa VIP Train Package
DESCRIPTION:Santa VIP Train Package Enter the whimsical world of Edaville Family Theme Park an hour early with our Santa VIP Package. This package includes admission to the entire park including Christmas Festival of Lights & Thomas Land. Join Santa Claus on the Santa VIP train for a fun and festive journey around Edaville. Each VIP package includes a name badge so that Santa will know each and every person! Every child will receive one on one time with Santa\, along with a special wrapped gift. As the train arrives back at the station\, select rides will be open! Please Note: All tickets for the Santa VIP Train Package must be purchased through the Santa VIP ticket page to ensure your seat is reserved. Edaville requests that all Santa VIP Package holders are in line for the train at the train depot by 1:05 PM\, as the train departs promptly at 1:15. Discounts not accepted.
X-ALT-DESC;FMTTYPE=text/html:Santa VIP Train Package Enter the whimsical world of Edaville Family Theme Park an hour early with our Santa VIP Package. This package includes admission to the entire park including Christmas Festival of Lights &amp\; Thomas Land. Join Santa Claus on the Santa VIP train for a fun and festive journey around Edaville. Each VIP package includes a name badge so that Santa will know each and every person! Every child will receive one on one time with Santa\, along with a special wrapped gift. As the train arrives back at the station\, select rides will be open! Please Note: All tickets for the Santa VIP Train Package must be purchased through the Santa VIP ticket page to ensure your seat is reserved. Edaville requests that all Santa VIP Package holders are in line for the train at the train depot by 1:05 PM\, as the train departs promptly at 1:15. Discounts not accepted.
LOCATION:Edaville Family Theme Park 5 Pine Street Carver\, MA 02330
UID:e.340.4662
SEQUENCE:3
DTSTAMP:20260425T220124Z
URL:https://business.peabodychamber.com/events/details/santa-vip-train-package-4662
END:VEVENT

END:VCALENDAR
