BEGIN:VCALENDAR
VERSION:2.0
PRODID:-//ChamberMaster//Event Calendar 2.0//EN
METHOD:PUBLISH
X-PUBLISHED-TTL:P3D
REFRESH-INTERVAL:P3D
CALSCALE:GREGORIAN
BEGIN:VEVENT
DTSTART:20260502T140000Z
DTEND:20260502T160000Z
X-MICROSOFT-CDO-ALLDAYEVENT:FALSE
SUMMARY:Peabody Pride Spring Clean Up Day
DESCRIPTION:Annual Peabody Pride Spring Cleanup Day
X-ALT-DESC;FMTTYPE=text/html:Annual Peabody Pride Spring Cleanup Day<br />\n<br />\n<br />\n<br />\n&nbsp\;
LOCATION:Volunteers are invited to City Hall beginning at 10:00am to pick up free cleaning supplies and then fan out to targeted areas throughout Peabody. Those who cannot make it to City Hall on May 2nd are still encouraged to participate in the cleanup. Simply choose an area of town that needs some TLC and collect litter and debris in trash bags. Then\, contact the mayor's community cleanup hotline at 978-538-5700 or email mayor@peabody-ma.gov with the location of the bags. Department of Public Services personnel will come to pick them up.
UID:e.340.9673
SEQUENCE:3
DTSTAMP:20260420T084107Z
URL:https://business.peabodychamber.com/events/details/peabody-pride-spring-clean-up-day-9673
END:VEVENT

END:VCALENDAR
