BEGIN:VCALENDAR
VERSION:2.0
PRODID:-//ChamberMaster//Event Calendar 2.0//EN
METHOD:PUBLISH
X-PUBLISHED-TTL:P3D
REFRESH-INTERVAL:P3D
CALSCALE:GREGORIAN
BEGIN:VEVENT
DTSTART:20260927T150000Z
DTEND:20260927T210000Z
X-MICROSOFT-CDO-ALLDAYEVENT:FALSE
SUMMARY:Peabody International Festival - Table Opportunity
DESCRIPTION:Save the date!  Registration will open approx 60 days prior to the event.\n\n\n\nShowcase Your Business at Peabody's Premier Event!\n\nFor nearly 40 years\, Peabody's International Festival has been the city's signature celebration of culture\, music\, and food drawing thousands each year to experience the rich diversity of our community. While vendor booths are traditionally reserved for cultural displays and food\, this year the Peabody Area Chamber of Commerce is opening up a unique opportunity just for local businesses.\n\nWe're proud to bring back the International Pavilion\, designed to help showcase local businesses and organizations in a meaningful\, memorable way. This is your chance to be part of a high-visibility experience right in the heart of the festival.\n\n  Sponsor a "Country" and decorate your table to reflect its unique culture and traditions.\n\n  Engage the crowd with raffles\, games\, giveaways\, or candy (wrapped).\n\n  Show your community spirit by participating in a beloved event that celebrates connection\, diversity\, and local pride.\n\n   No items can be sold nor can food be distributed.\n\nThis is more than just a table it's a platform to tell your story\, introduce your services\, and build lasting connections with festival-goers in a fun\, festive atmosphere.\n\n  Plus\, with pop-up performances the Pavilion will be buzzing with energy all afternoon!\n\nLet's put local businesses front and center because when our community comes together\, everyone thrives.\n\n\n\nIf you are a food vendor looking for a booth\, visit https://ifestpeabody.com/
X-ALT-DESC;FMTTYPE=text/html:<p data-end="212" data-start="155"><strong data-end="212" data-start="158"><span style="color:#0000CD\;"><em>Save the date!&nbsp\; Registration will open approx 60 days prior to the event.</em></span><br />\n<br />\nShowcase Your Business at Peabody&rsquo\;s Premier Event!</strong></p>\n\n<p data-end="608" data-start="214">For nearly 40 years\, Peabody&rsquo\;s International Festival has been the city&rsquo\;s signature celebration of culture\, music\, and food&mdash\;drawing thousands each year to experience the rich diversity of our community. While vendor booths are traditionally reserved for cultural displays and food\, <strong data-end="607" data-start="496">this year the Peabody Area Chamber of Commerce is opening up a unique opportunity just for local businesses</strong>.</p>\n\n<p data-end="863" data-start="610">We&#39\;re proud to bring back the <strong data-end="666" data-start="640">International Pavilion</strong>\, designed to help <strong data-end="732" data-start="685">showcase local businesses and organizations</strong> in a meaningful\, memorable way. This is your chance to be part of a high-visibility experience&mdash\;right in the heart of the festival.</p>\n\n<p data-end="1159" data-start="865">&#128313\; <strong data-end="891" data-start="868">Sponsor a &ldquo\;Country&rdquo\;</strong> and decorate your table to reflect its unique culture and traditions.<br data-end="964" data-start="961" />\n&#128313\; <strong data-end="987" data-start="967">Engage the crowd</strong> with raffles\, games\, giveaways\, or candy (wrapped).<br data-end="1034" data-start="1031" />\n&#128313\; <strong data-end="1067" data-start="1037">Show your community spirit</strong> by participating in a beloved event that celebrates connection\, diversity\, and local pride.<br />\n<span background-color:="" font-size:="" style="color: rgb(51\, 51\, 51)\; font-family: sans-serif\, Arial\, Verdana\, " trebuchet="">&#128313\;&nbsp\; No items can be sold nor can food be distributed.</span></p>\n\n<p data-end="1336" data-start="1161">This is more than just a table&mdash\;<strong data-end="1230" data-start="1192">it&rsquo\;s a platform to tell your story</strong>\, introduce your services\, and build lasting connections with festival-goers in a fun\, festive atmosphere.</p>\n\n<p data-end="1487" data-start="1338">&#127881\; Plus\, with pop-up performances the Pavilion will be buzzing with energy all afternoon!</p>\n\n<p data-end="1597" data-start="1489">Let&rsquo\;s put local businesses front and center&mdash\;<strong data-end="1597" data-start="1533">because when our community comes together\, everyone thrives.<br />\n<br />\nIf you are a food vendor looking for a booth\, visit&nbsp\;</strong>https://ifestpeabody.com/</p>\n
LOCATION:Peabody Square/Main Street International Pavilion will be located in North Shore Bank parking lot.
UID:e.340.9433
SEQUENCE:3
DTSTAMP:20260420T024935Z
URL:https://business.peabodychamber.com/events/details/peabody-international-festival-table-opportunity-9433
END:VEVENT

END:VCALENDAR
