BEGIN:VCALENDAR
VERSION:2.0
PRODID:-//ChamberMaster//Event Calendar 2.0//EN
METHOD:PUBLISH
X-PUBLISHED-TTL:P3D
REFRESH-INTERVAL:P3D
CALSCALE:GREGORIAN
BEGIN:VEVENT
DTSTART:20260429T170000Z
DTEND:20260429T180000Z
X-MICROSOFT-CDO-ALLDAYEVENT:FALSE
SUMMARY:PACC Ribbon Cutting: Maria's Flowers
DESCRIPTION:Join in the celebration as we welcome back Maria's Flowers to the Peabody Area Chamber of Commerce! Lesbia Marisol Chinchilla\, a respected floral and event designer for over 25 years\, will be taking over Maria's Flowers as the new owner! Her lifelong passion has now transformed into her biggest dream\, owning her own flower shop. \n\n\n\nWhile honoring the trusted name and reputation of Maria's Flowers\, Marisol introduces her signature design style: modern\, compact\, elegant\, and emotionally inspired. Her work blends contemporary beauty with heartfelt intention\, creating floral designs that feel personal\, luxurious\, and unforgettable.
X-ALT-DESC;FMTTYPE=text/html:<span style="font-size: 18px\; font-family: arial\;">Join in the celebration as we welcome back Maria&#39\;s Flowers to the Peabody Area Chamber of Commerce! Lesbia Marisol&nbsp\;</span><span style="font-size:18px\;"><span style="font-family:arial\;">Chinchilla\, a respected floral and event designer for over 25 years\, will be taking over Maria&#39\;s Flowers as the new owner! </span></span><span style="font-size: 18px\; font-family: arial\;">Her lifelong passion has now transformed into her biggest dream\, owning her own flower shop.&nbsp\;</span><br />\n<br />\n<span style="font-size:18px\;"><span style="font-family:arial\;">While honoring the trusted name and reputation of Maria&rsquo\;s Flowers\, Marisol introduces her signature design style: modern\, compact\, elegant\, and emotionally inspired. Her work blends contemporary beauty with heartfelt intention\, creating floral designs that feel personal\, luxurious\, and unforgettable.&nbsp\;</span></span>
LOCATION:Maria's Flowers 63 Main St Peabody\, MA
UID:e.340.9675
SEQUENCE:3
DTSTAMP:20260422T180923Z
URL:https://business.peabodychamber.com/events/details/pacc-ribbon-cutting-maria-s-flowers-9675
END:VEVENT

END:VCALENDAR
