BEGIN:VCALENDAR
VERSION:2.0
PRODID:-//ChamberMaster//Event Calendar 2.0//EN
METHOD:PUBLISH
X-PUBLISHED-TTL:P3D
REFRESH-INTERVAL:P3D
CALSCALE:GREGORIAN
BEGIN:VEVENT
DTSTART:20230626T130000Z
DTEND:20230626T140000Z
X-MICROSOFT-CDO-ALLDAYEVENT:FALSE
SUMMARY:Navigating the Chamber
DESCRIPTION:Are you wondering how to get the most out of your Chamber membership and want to learn how to navigate through the multiple benefits? \n\n\n\nThen join the chamber team for an informative workshop that is designed to:\n\n	De-mystify the benefits of membership - both tangible and intangible\n	Show you best practices for utilization \n	Help you create an action plan specific to your business or organization\n\nWho should attend?\n\nThis workshop is open to new members\, new managers/owners\, new employees or any member that needs a refresher.
X-ALT-DESC;FMTTYPE=text/html:Are you wondering how to get the most out of your Chamber membership and want to learn how to navigate through the multiple benefits?&nbsp\;<br />\n<br />\nThen join the chamber team for an informative workshop that is designed to:\n<ul>\n	<li>De-mystify the benefits of membership - both tangible and intangible</li>\n	<li>Show you&nbsp\;best practices for utilization&nbsp\;</li>\n	<li>Help you create an action plan specific to your business or organization</li>\n</ul>\nWho should attend?<br />\nThis workshop is open to new members\, new managers/owners\, new employees or any member that needs a refresher.
LOCATION:Yellowstone Training Room Gravoc 10 Centennial Drive Peabody MA 01960 Please use WEST Entrance to access training room.
UID:e.340.8207
SEQUENCE:3
DTSTAMP:20260424T095525Z
URL:https://business.peabodychamber.com/events/details/navigating-the-chamber-8207
END:VEVENT

END:VCALENDAR
