BEGIN:VCALENDAR
VERSION:2.0
PRODID:-//ChamberMaster//Event Calendar 2.0//EN
METHOD:PUBLISH
X-PUBLISHED-TTL:P3D
REFRESH-INTERVAL:P3D
CALSCALE:GREGORIAN
BEGIN:VEVENT
DTSTART:20260509T150000Z
DTEND:20260509T190000Z
X-MICROSOFT-CDO-ALLDAYEVENT:FALSE
SUMMARY:Mom's Day Out at Mills 58
DESCRIPTION:Treat the moms in your life to a fun and relaxing afternoon at Mom's Day Out at Mills 58! This family-friendly event is all about connection\, self-care\, and celebrating motherhood in all forms. Take your mom out\, gather your mom friends\, celebrate with your daughter\, and yes\, bring the kids!\n\n\n\nEnjoy:\n\n	Brunch favorites and drinks from Malayah's Maple Minis and Capito Coffee\n	Massage therapy with Mind to Muscle Massage Therapy\n	Permanent jewelry & charm bar from Heart Lynx\n	Mom & daughter hair braiding with The Braiding Mamas \n	A fun-family friendly afternoon\n\nCome sip\, shop\, relax\, and celebrate together - because moms deserve a day out!
X-ALT-DESC;FMTTYPE=text/html:Treat the moms in your life to a fun and relaxing afternoon at Mom&#39\;s Day Out at Mills 58! This family-friendly event is all about connection\, self-care\, and celebrating motherhood in all forms. Take your mom out\, gather your mom friends\, celebrate with your daughter\, and yes\, bring the kids!<br />\n<br />\nEnjoy:\n<ul>\n	<li>Brunch favorites and drinks from&nbsp\;Malayah&#39\;s Maple Minis and Capito Coffee</li>\n	<li>Massage therapy with Mind to Muscle Massage Therapy</li>\n	<li>Permanent jewelry &amp\; charm bar from Heart Lynx</li>\n	<li>Mom &amp\; daughter hair braiding with The Braiding Mamas&nbsp\;</li>\n	<li>A fun-family friendly afternoon</li>\n</ul>\nCome sip\, shop\, relax\, and celebrate together - because moms deserve a day out!
LOCATION:Mills 58 58 Pulaski Street\, Building B 1st Floor Peabody
UID:e.340.9676
SEQUENCE:3
DTSTAMP:20260424T093058Z
URL:https://business.peabodychamber.com/events/details/mom-s-day-out-at-mills-58-9676
END:VEVENT

END:VCALENDAR
