BEGIN:VCALENDAR
VERSION:2.0
PRODID:-//ChamberMaster//Event Calendar 2.0//EN
METHOD:PUBLISH
X-PUBLISHED-TTL:P3D
REFRESH-INTERVAL:P3D
CALSCALE:GREGORIAN
BEGIN:VEVENT
DTSTART:20230528T150000Z
DTEND:20230528T160000Z
X-MICROSOFT-CDO-ALLDAYEVENT:FALSE
SUMMARY:Memorial Day Service
DESCRIPTION:We are honored to have Rep. Thomas Walsh of Peabody as our lead speaker this year. Rep. Walsh will also be joined by speaker Steve Patten of Peabody Veterans Services. The event will include local readers\, a raising of the Flag\, the Peabody Police Honor Guard\, Beverly JROTC Colorguard\, and the Peabody Veterans Memorial High School Air Force JROTC Drill Team as they perform a rifle drill and dedicate the Veterans' Wreath. The event is held outdoors\, rain or shine\, at the Veterans' Flag Circle at Puritan Lawn Memorial Park\, 185 Lake St\, Peabody\, MA 01960.
X-ALT-DESC;FMTTYPE=text/html:We are honored to have Rep. Thomas Walsh of Peabody as our lead speaker this year. Rep. Walsh will also be joined by speaker Steve Patten of Peabody Veterans Services. The event will include local readers\, a raising of the Flag\, the Peabody Police Honor Guard\, Beverly JROTC Colorguard\, and the Peabody Veterans Memorial High School Air Force JROTC Drill Team as they perform a rifle drill and dedicate the Veterans&#39\; Wreath. The event is held outdoors\, rain or shine\, at the Veterans&#39\; Flag Circle at Puritan Lawn Memorial Park\, 185 Lake St\, Peabody\, MA 01960.
LOCATION:Puritan Lawn Memorial Park Cemetery & Crematory\, 185 Lake Street\, Peabody\, United States
UID:e.340.8318
SEQUENCE:3
DTSTAMP:20260419T123556Z
URL:https://business.peabodychamber.com/events/details/memorial-day-service-8318
END:VEVENT

END:VCALENDAR
