BEGIN:VCALENDAR
VERSION:2.0
PRODID:-//ChamberMaster//Event Calendar 2.0//EN
METHOD:PUBLISH
X-PUBLISHED-TTL:P3D
REFRESH-INTERVAL:P3D
CALSCALE:GREGORIAN
BEGIN:VEVENT
DTSTART:20260520T200000Z
DTEND:20260520T210000Z
X-MICROSOFT-CDO-ALLDAYEVENT:FALSE
SUMMARY:Membership Committee Meet Up
DESCRIPTION:Join us for a Membership Committee Meet-Up designed to welcome both new and returning members! This casual orientation will help you step confidently into your role as a Chamber ambassador equipping you with insights on member benefits you may not even know exist\, and positioning you as a go-to resource in the community.\n\nWe'll cover what it means to represent the Chamber\, how to connect members to value\, and ways you can make a real impact. Plus\, it's all happening in the community room at Rockland Trust Bank with wine and snacks provided  because\, of course\, why not?\n\n\n\nIf you have been wondering if joining the Membership Committee makes sense for you and can help your business\, while helping other chamber members\, feel free to join us.
X-ALT-DESC;FMTTYPE=text/html:<p data-end="324" data-start="0">Join us for a Membership Committee Meet-Up designed to welcome both new and returning members! This casual orientation will help you step confidently into your role as a Chamber ambassador&mdash\;equipping you with insights on member benefits you may not even know exist\, and positioning you as a go-to resource in the community.</p>\n\n<p data-end="595" data-is-last-node="" data-is-only-node="" data-start="326">We&rsquo\;ll cover what it means to represent the Chamber\, how to connect members to value\, and ways you can make a real impact. Plus\, it&rsquo\;s all happening in the community room at <span class="hover:entity-accent entity-underline inline cursor-pointer align-baseline">Rockland Trust Bank</span>&mdash\;with wine and snacks provided&hellip\; because\, of course\, why not?<br />\n<br />\nIf you have been wondering if joining the Membership Committee makes sense for you and can help your business\, while helping other chamber members\, feel free to join us.</p>\n
LOCATION:Community Room at Rockland Trust Bank 67 Prospect Street | Peabody MA
UID:e.340.9674
SEQUENCE:3
DTSTAMP:20260419T192411Z
URL:https://business.peabodychamber.com/events/details/membership-committee-meet-up-9674
END:VEVENT

END:VCALENDAR
