BEGIN:VCALENDAR
VERSION:2.0
PRODID:-//ChamberMaster//Event Calendar 2.0//EN
METHOD:PUBLISH
X-PUBLISHED-TTL:P3D
REFRESH-INTERVAL:P3D
CALSCALE:GREGORIAN
BEGIN:VEVENT
DTSTART:20260516T130000Z
DTEND:20260517T200000Z
X-MICROSOFT-CDO-ALLDAYEVENT:FALSE
SUMMARY:Marblehead Free Days at the North Shore Children's Museum
DESCRIPTION:Marblehead residents can enjoy free admission to the museum on Saturday\, May 16 and Sunday\, May 17! \n\n\n\nWith the generous support of Marblehead Cultural Council\, we are excited to offer free admission days for Marblehead Residents. Tickets may be reserved online in advance or in person. Get your tickets now at nschildrensmuseum.org/visit/buy-tickets/ \n\n\n\nGuests must be prepared to show proof of Marblehead residency at the door. \n\n\n\n**Tickets are available on a first-come\, first-serve basis while supplies last \n\n\n\nSessions available: \n\n\n\nSaturday\, May 16: 9am-12pm\, 12pm-2pm\, & 2pm-4pm \n\n\n\nSunday\, May 17: 12pm-2pm & 2pm-4pm
X-ALT-DESC;FMTTYPE=text/html:<div>\n<p><span style="font-family:aptos\,aptos_embeddedfont\,aptos_msfontservice\,sans-serif\; font-size:12pt">Marblehead residents can enjoy <strong>free admission</strong> to the museum on <strong>Saturday\, May 16 and Sunday\, May 17!</strong></span><span style="font-family:aptos\,aptos_embeddedfont\,aptos_msfontservice\,sans-serif\; font-size:12pt">&nbsp\;</span></p>\n</div>\n\n<div>\n<p><span style="font-family:aptos\,aptos_embeddedfont\,aptos_msfontservice\,sans-serif\; font-size:12pt">With the generous support&nbsp\;of&nbsp\;Marblehead Cultural Council\, we are excited to offer free admission days for Marblehead Residents.&nbsp\;Tickets may be reserved online in advance or in person. Get your tickets now at nschildrensmuseum.org/visit/buy-tickets/</span><span style="font-family:aptos\,aptos_embeddedfont\,aptos_msfontservice\,sans-serif\; font-size:12pt">&nbsp\;</span></p>\n</div>\n\n<div>\n<p><span style="font-family:aptos\,aptos_embeddedfont\,aptos_msfontservice\,sans-serif\; font-size:12pt">Guests must&nbsp\;be prepared to&nbsp\;show proof of Marblehead residency at the door.</span><span style="font-family:aptos\,aptos_embeddedfont\,aptos_msfontservice\,sans-serif\; font-size:12pt">&nbsp\;</span></p>\n</div>\n\n<div>\n<p><strong>**Tickets are available on a first-come\, first-serve basis while supplies last</strong><span style="font-family:aptos\,aptos_embeddedfont\,aptos_msfontservice\,sans-serif\; font-size:12pt">&nbsp\;</span></p>\n</div>\n\n<div>\n<p><span style="font-family:aptos\,aptos_embeddedfont\,aptos_msfontservice\,sans-serif\; font-size:12pt">Sessions available:</span><span style="font-family:aptos\,aptos_embeddedfont\,aptos_msfontservice\,sans-serif\; font-size:12pt">&nbsp\;</span></p>\n</div>\n\n<div>\n<p><span style="font-family:aptos\,aptos_embeddedfont\,aptos_msfontservice\,sans-serif\; font-size:12pt">Saturday\, May 16: 9am-12pm\, 12pm-2pm\, &amp\; 2pm-4pm</span><span style="font-family:aptos\,aptos_embeddedfont\,aptos_msfontservice\,sans-serif\; font-size:12pt">&nbsp\;</span></p>\n</div>\n\n<div>\n<p><span style="font-family:aptos\,aptos_embeddedfont\,aptos_msfontservice\,sans-serif\; font-size:12pt">Sunday\, May 17: 12pm-2pm &amp\; 2pm-4pm</span><span style="font-family:aptos\,aptos_embeddedfont\,aptos_msfontservice\,sans-serif\; font-size:12pt">&nbsp\;</span></p>\n</div>\n
LOCATION:North Shore Children's Museum 10 Main Street Peabody\, MA\, 01960
UID:e.340.9671
SEQUENCE:3
DTSTAMP:20260419T192649Z
URL:https://business.peabodychamber.com/events/details/marblehead-free-days-at-the-north-shore-children-s-museum-9671
END:VEVENT

END:VCALENDAR
