BEGIN:VCALENDAR
VERSION:2.0
PRODID:-//ChamberMaster//Event Calendar 2.0//EN
METHOD:PUBLISH
X-PUBLISHED-TTL:P3D
REFRESH-INTERVAL:P3D
CALSCALE:GREGORIAN
BEGIN:VEVENT
DTSTART:20260301T213000Z
DTEND:20260301T230000Z
X-MICROSOFT-CDO-ALLDAYEVENT:FALSE
SUMMARY:Heart Opening Breathwork with New England Breathwork & Yoga
DESCRIPTION:We all carry stress in our daily lives - stress that is stored in our bodies until we release it. This breathwork experience is an opportunity to shift negative energy\, move through what's stuck deep in your tissues\, and create space for clarity\, transformation\, joy\, and deep connection.\n\nThis isn't just deep breathing it's an active\, somatic experience designed to take you beyond your thinking mind and into your heart space. You may feel emotions rise and move through you\, or you may feel lighter\, freer\, and more at peace than you have in a long time.\n\nThis workshop is open to everyone looking to move energy\, heal\, and find comfort and connection - with yourself and others. No experience needed just come with an open mind and a willingness to explore.\n\nAre you ready for a shift? Join us: https://tinyurl.com/yx5kut9x
X-ALT-DESC;FMTTYPE=text/html:<span style="color:black">We all carry stress in our daily lives - stress that is stored in our bodies until we release it. This breathwork experience is an opportunity to shift negative energy\, move through what&rsquo\;s stuck deep in your tissues\, and create space for clarity\, transformation\, joy\, and deep connection.</span><br />\n<span style="color:black">This isn&rsquo\;t just deep breathing&mdash\;it&rsquo\;s an active\, somatic experience designed to take you beyond your thinking mind and into your heart space. You may feel emotions rise and move through you\, or you may feel lighter\, freer\, and more at peace than you have in a long time.</span><br />\n<span style="color:black">This workshop is open to everyone looking to move energy\, heal\, and find comfort and connection - with yourself and others. No experience needed&mdash\;just come with an open mind and a willingness to explore.</span><br />\n<span style="color:black">Are you ready for a shift? Join us: <a href="https://tinyurl.com/yx5kut9x">https://tinyurl.com/yx5kut9x</a></span>
LOCATION:Expand Yoga & Wellness 110 Newbury St\, unit 3 Centre Street Village Danvers\, MA 01923
UID:e.340.9519
SEQUENCE:3
DTSTAMP:20260421T100334Z
URL:https://business.peabodychamber.com/events/details/heart-opening-breathwork-journey-with-new-england-breathwork-9519
END:VEVENT

END:VCALENDAR
