BEGIN:VCALENDAR
VERSION:2.0
PRODID:-//ChamberMaster//Event Calendar 2.0//EN
METHOD:PUBLISH
X-PUBLISHED-TTL:P3D
REFRESH-INTERVAL:P3D
CALSCALE:GREGORIAN
BEGIN:VEVENT
DTSTART:20260709T150000Z
DTEND:20260709T160000Z
X-MICROSOFT-CDO-ALLDAYEVENT:FALSE
SUMMARY:Government Relations Committee
DESCRIPTION:Where policy meets practicality. Each month\, this committee dives into issues\, legislation\, and local decisions that impact our businesses and community\, making sure the PACC has a strong\, informed voice at the table.\n\nInterested in advocacy\, staying ahead of what's happening in government\, or helping shape the business climate?\n\n\n\nMembers are encouraged to join and add their voice to the conversation!
X-ALT-DESC;FMTTYPE=text/html:<p data-end="277" data-start="0">Where policy meets practicality. Each month\, this committee dives into issues\, legislation\, and local decisions that impact our businesses and community\, making sure the PACC has a strong\, informed voice at the table.</p>\n\n<p data-end="462" data-is-last-node="" data-is-only-node="" data-start="279">Interested in advocacy\, staying ahead of what&#39\;s happening in government\, or helping shape the business climate?<br />\n<br />\nMembers are encouraged to join and add their voice to the conversation!&nbsp\;&nbsp\;</p>\n
LOCATION:via TEAMS
UID:e.340.9427
SEQUENCE:3
DTSTAMP:20260419T222908Z
URL:https://business.peabodychamber.com/events/details/government-relations-committee-07-09-2026-9427
END:VEVENT

END:VCALENDAR
