BEGIN:VCALENDAR
VERSION:2.0
PRODID:-//ChamberMaster//Event Calendar 2.0//EN
METHOD:PUBLISH
X-PUBLISHED-TTL:P3D
REFRESH-INTERVAL:P3D
CALSCALE:GREGORIAN
BEGIN:VEVENT
DTSTART:20261208T133000Z
DTEND:20261208T150000Z
X-MICROSOFT-CDO-ALLDAYEVENT:FALSE
SUMMARY:Coffee Talks - Holiday Edition
DESCRIPTION:Join us for a festive twist on our December Coffee Talks!\n\nTo add a little holiday cheer\, we're introducing a special Yankee Swap with a local twist! When registering\, you'll have the option to participate by selecting the Yankee Swap for $25. We'll use those funds to purchase gifts from local Chamber member businesses supporting our community while making the morning extra merry!\n\nWhen you arrive\, if you've opted in\, you'll pick a wrapped gift and join in the fun of swapping\, stealing\, and sharing. It's an easy and festive way to spread some holiday cheer while giving local businesses a boost.\n\nParticipation in the Yankee Swap is completely optional! Coffee Talks is always about connecting\, building relationships\, and supporting one another.\n\nWe'll leave plenty of time for everyone to share their introductions and ideas. Come for the coffee\, stay for the connections\, and leave with fresh ideas for growing your business in the year ahead!\n\n\n\nJust remember to register so we have a name tag for you and can let our host know how many people to expect. See you then!
X-ALT-DESC;FMTTYPE=text/html:<p data-end="131" data-start="0"><span style="color: rgb(0\, 128\, 0)\;"><strong data-end="282" data-start="221">Join us for a festive twist on our December Coffee Talks!</strong></span></p>\n\n<p data-end="805" data-start="460">To add a little holiday cheer\, we&rsquo\;re introducing<span style="color: rgb(0\, 128\, 0)\;">&nbsp\;a special&nbsp\;<strong data-end="534" data-start="519">Yankee Swap</strong>&nbsp\;with a local twist!</span>&nbsp\;When registering\, you&rsquo\;ll have the option to participate by selecting the Yankee Swap&nbsp\;for $25. We&rsquo\;ll use those funds to purchase gifts&nbsp\;<strong data-end="740" data-start="700">from local Chamber member businesses</strong>&mdash\;supporting our community while making the morning extra merry!</p>\n\n<p data-end="1025" data-start="807">When you arrive\, if you&rsquo\;ve opted in\, you&rsquo\;ll pick a wrapped gift and join in the fun of swapping\, stealing\, and sharing. It&rsquo\;s an easy and festive way to spread some holiday cheer while giving local businesses a boost.</p>\n\n<p data-end="1177" data-start="1027">Participation in the Yankee Swap is completely optional! Coffee Talks is always about connecting\, building relationships\, and supporting one another.</p>\n\n<p data-end="1362" data-start="1179">We&rsquo\;ll leave plenty of time for everyone to share their introductions and ideas. Come for the coffee\, stay for the connections\, and leave with fresh ideas for growing your business in the year ahead!<br />\n<br />\nJust remember to register so we have a name tag for you and can let our host know how many people to expect. See you then!</p>\n
LOCATION:TBA
UID:e.340.9383
SEQUENCE:3
DTSTAMP:20260419T182540Z
URL:https://business.peabodychamber.com/events/details/coffee-talks-12-08-2026-9383
END:VEVENT

END:VCALENDAR
