BEGIN:VCALENDAR
VERSION:2.0
PRODID:-//ChamberMaster//Event Calendar 2.0//EN
METHOD:PUBLISH
X-PUBLISHED-TTL:P3D
REFRESH-INTERVAL:P3D
CALSCALE:GREGORIAN
BEGIN:VEVENT
DTSTART:20260908T123000Z
DTEND:20260908T140000Z
X-MICROSOFT-CDO-ALLDAYEVENT:FALSE
SUMMARY:Coffee Talks
DESCRIPTION:Coffee Talks:\n\nWhere business professionals who "don't really do networking" suddenly realize  oh wait\, this actually works.\n\nJoin the chamber's most popular meetup no cliques\, no awkward circles you can't break into\, just friendly humans who want to know you\, cheer for you\, and send customers your way. It's the easiest place to boost visibility\, build real relationships\, and quietly assemble your own team of raving fans (aka your unpaid sales force).\n\nCome for the coffee. Stay because you finally get why everyone talks about this group.\n\n\n\nMeets the 2nd Tuesday of each month.
X-ALT-DESC;FMTTYPE=text/html:<p data-end="131" data-start="0"><strong data-end="24" data-start="0">Coffee Talks:</strong><br data-end="27" data-start="24" />\n<strong>Where business professionals&nbsp\;who &ldquo\;don&rsquo\;t really do networking&rdquo\; suddenly realize&hellip\; oh wait\, <em data-end="131" data-is-only-node="" data-start="109">this actually works.</em></strong></p>\n\n<p data-end="462" data-start="133">Join the chamber&rsquo\;s most popular meetup&mdash\;no cliques\, no awkward circles you can&rsquo\;t break into\, just friendly humans who want to know you\, cheer for you\, and send customers your way. It&rsquo\;s the easiest place to boost visibility\, build real relationships\, and quietly assemble your own team of raving fans (aka your unpaid sales force).</p>\n\n<p data-end="550" data-is-last-node="" data-is-only-node="" data-start="464">Come for the coffee. Stay because you finally get why everyone talks about this group.<br />\n<br />\nMeets the 2nd Tuesday of each month.</p>\n
LOCATION:Capito Coffee | Mills 58 58 Pulaski St | Peabody
UID:e.340.9380
SEQUENCE:3
DTSTAMP:20260420T025726Z
URL:https://business.peabodychamber.com/events/details/coffee-talks-09-08-2026-9380
END:VEVENT

END:VCALENDAR
