BEGIN:VCALENDAR
VERSION:2.0
PRODID:-//ChamberMaster//Event Calendar 2.0//EN
METHOD:PUBLISH
X-PUBLISHED-TTL:P3D
REFRESH-INTERVAL:P3D
CALSCALE:GREGORIAN
BEGIN:VEVENT
DTSTART:20181101T210000Z
DTEND:20181102T003000Z
X-MICROSOFT-CDO-ALLDAYEVENT:FALSE
SUMMARY:87th PACC Annual Dinner & Awards Celebration
DESCRIPTION:Join us for the 87th PACC Annual Dinner & Awards Celebration on Thursday\, November 1st at the Doubletree Hotel by Hilton in Danvers.  \n\n\n\nThis event is a special occasion for celebration\, inspiring speeches and professional networking.  It is also an opportunity to celebrate and welcome our 2018/2019 Board of Directors\, network with leaders in the community\, meet new contacts for your organization and entertain existing clients.\n\n\n\nThe Peabody Area Chamber of Commerce is proud to be celebrating 87 years as one of the largest business associations on the North Shore.  This year we will be recognizing members of the Chamber Business Community who have shown outstanding engagement and participation in the Peabody Area Business Community with the introduction of three new awards for 2018 including: \n\n\n	New Member of the Year\n	Non-Profit Member of the Year\n	Business of the Year\n\n\nThe recipients of these awards have been voted on by the membership and the winners will be announced at the event.  \n\n\n\nWe are excited to announce that Robert Nelson\, District Director for the U.S. Small Business Administration will be our Keynote Speaker and the Peabody Veterans Memorial High School's Chorale group will performing during the event!\n\n\n\nSponsorships are SOLD OUT - but still a few tickets left - ticket sales end on Monday\, October 29th at 5pm.  Tickets will not be available for sale at the door for this event.
X-ALT-DESC;FMTTYPE=text/html:<p><span style="font-size:16px\;"><span style="font-family:tahoma\;"><span style="line-height: 1.6\;">Join us for the 87th&nbsp\;PACC Annual Dinner &amp\; Awards Celebration on Thursday\, November 1st at the Doubletree Hotel by Hilton in Danvers.&nbsp\;&nbsp\;<br />\n<br />\nThis event&nbsp\;is a special&nbsp\;occasion for celebration\, inspiring speeches and professional networking. &nbsp\;It is also an opportunity to celebrate and welcome&nbsp\;our 2018/2019&nbsp\;Board of Directors\, network with leaders in the community\, meet new contacts for your organization and entertain existing clients.<br />\n<br />\nThe Peabody Area Chamber of Commerce is proud to be&nbsp\;celebrating&nbsp\;87&nbsp\;years as one of the largest business associations on the North Shore.&nbsp\; This year we will be recognizing&nbsp\;members of the Chamber Business Community who have shown outstanding engagement and participation in the Peabody Area Business Community with the introduction of three new awards for 2018 including: </span></span></span></p>\n\n<ul>\n	<li><strong><em><span style="font-family:tahoma\;"><span style="font-size:16px\;">New Member of the Year</span></span></em></strong></li>\n	<li><strong><em><span style="font-size:16px\;"><span style="font-family:tahoma\;"><span style="line-height: 1.6\;">Non-Profit Member of the Year</span></span></span></em></strong></li>\n	<li><span style="font-size:16px\;"><span style="font-family:tahoma\;"><span style="line-height: 1.6\;"><strong><em>Business of the Year</em></strong></span></span></span></li>\n</ul>\n\n<p><span style="font-size:16px\;"><span style="font-family:tahoma\;"><span style="line-height: 1.6\;">The&nbsp\;recipients of these awards have been voted on by the membership and the winners will be announced at the event.&nbsp\;&nbsp\;<br />\n<br />\nWe are excited to announce that Robert Nelson\, District Director for the U.S. Small Business Administration will be our Keynote Speaker and the Peabody Veterans Memorial High School&#39\;s Chorale group will performing during the event!</span><br />\n<br />\n<em><strong>Sponsorships are SOLD OUT - but still a few tickets left - ticket sales end on Monday\, October 29th at 5pm.&nbsp\; Tickets <u>will not </u>be available for sale at the door for this event.</strong></em></span></span></p>\n
LOCATION:Doubletree Hotel by Hilton 50 Ferncroft Road Danvers\, MA 01923
UID:e.340.4684
SEQUENCE:3
DTSTAMP:20260420T094922Z
URL:https://business.peabodychamber.com/events/details/87th-pacc-annual-dinner-awards-celebration-4684
END:VEVENT

END:VCALENDAR
